BEGIN:VCALENDAR
VERSION:2.0
PRODID:-//Texas County Library - ECPv6.15.20//NONSGML v1.0//EN
CALSCALE:GREGORIAN
METHOD:PUBLISH
X-ORIGINAL-URL:https://www.texascountylibrary.lib.mo.us
X-WR-CALDESC:Events for Texas County Library
REFRESH-INTERVAL;VALUE=DURATION:PT1H
X-Robots-Tag:noindex
X-PUBLISHED-TTL:PT1H
BEGIN:VTIMEZONE
TZID:America/Chicago
BEGIN:DAYLIGHT
TZOFFSETFROM:-0600
TZOFFSETTO:-0500
TZNAME:CDT
DTSTART:20210314T080000
END:DAYLIGHT
BEGIN:STANDARD
TZOFFSETFROM:-0500
TZOFFSETTO:-0600
TZNAME:CST
DTSTART:20211107T070000
END:STANDARD
BEGIN:DAYLIGHT
TZOFFSETFROM:-0600
TZOFFSETTO:-0500
TZNAME:CDT
DTSTART:20220313T080000
END:DAYLIGHT
BEGIN:STANDARD
TZOFFSETFROM:-0500
TZOFFSETTO:-0600
TZNAME:CST
DTSTART:20221106T070000
END:STANDARD
BEGIN:DAYLIGHT
TZOFFSETFROM:-0600
TZOFFSETTO:-0500
TZNAME:CDT
DTSTART:20230312T080000
END:DAYLIGHT
BEGIN:STANDARD
TZOFFSETFROM:-0500
TZOFFSETTO:-0600
TZNAME:CST
DTSTART:20231105T070000
END:STANDARD
END:VTIMEZONE
BEGIN:VEVENT
DTSTART;TZID=America/Chicago:20221210T090000
DTEND;TZID=America/Chicago:20221210T130000
DTSTAMP:20260422T213517
CREATED:20221102T190449Z
LAST-MODIFIED:20221102T190449Z
UID:564-1670662800-1670677200@www.texascountylibrary.lib.mo.us
SUMMARY:Chess Club & Lego Club at the Summersville Branch
DESCRIPTION:Chess Club & Lego Club Every Saturday at the Summersville Branch Library.\nFrom 9am – 1pm.
URL:https://www.texascountylibrary.lib.mo.us/event/chess-club-lego-club-at-the-summersville-branch-6/
LOCATION:Summersville Branch\, 480 First Street\, Summersville\, 65571\, United States
END:VEVENT
BEGIN:VEVENT
DTSTART;TZID=America/Chicago:20221210T100000
DTEND;TZID=America/Chicago:20221210T123000
DTSTAMP:20260422T213517
CREATED:20221102T194321Z
LAST-MODIFIED:20221102T194321Z
UID:612-1670666400-1670675400@www.texascountylibrary.lib.mo.us
SUMMARY:Lego Club at the Houston Branch
DESCRIPTION:
URL:https://www.texascountylibrary.lib.mo.us/event/lego-club-at-the-houston-branch-6/
LOCATION:Houston Branch\, 191 N. First St.\, Houston\, MO\, 65483\, United States
END:VEVENT
BEGIN:VEVENT
DTSTART;TZID=America/Chicago:20221210T100000
DTEND;TZID=America/Chicago:20221210T130000
DTSTAMP:20260422T213517
CREATED:20221102T190944Z
LAST-MODIFIED:20221103T210302Z
UID:570-1670666400-1670677200@www.texascountylibrary.lib.mo.us
SUMMARY:Chess Club at the Cabool Branch
DESCRIPTION:
URL:https://www.texascountylibrary.lib.mo.us/event/chess-club-at-the-cabool-branch/
LOCATION:Cabool Branch\, 418 Walnut St\, Cabool\, MO\, 65689\, United States
END:VEVENT
BEGIN:VEVENT
DTSTART;TZID=America/Chicago:20221210T100000
DTEND;TZID=America/Chicago:20221210T130000
DTSTAMP:20260422T213517
CREATED:20221115T194918Z
LAST-MODIFIED:20221115T194918Z
UID:633-1670666400-1670677200@www.texascountylibrary.lib.mo.us
SUMMARY:A Grinch Movie Party at the Summersville Branch Library
DESCRIPTION:A Grinch Movie Party is scheduled for children on Saturday\, December 10th at 10am. \nWe’ll be showing the newest Grinch movie and serving refreshments. \nMaybe a surprise guest will drop in!
URL:https://www.texascountylibrary.lib.mo.us/event/a-grinch-movie-party-at-the-summersville-branch-library/
LOCATION:Summersville Branch\, 480 First Street\, Summersville\, 65571\, United States
END:VEVENT
END:VCALENDAR