BEGIN:VCALENDAR
VERSION:2.0
PRODID:-//Texas County Library - ECPv6.15.20//NONSGML v1.0//EN
CALSCALE:GREGORIAN
METHOD:PUBLISH
X-WR-CALNAME:Texas County Library
X-ORIGINAL-URL:https://www.texascountylibrary.lib.mo.us
X-WR-CALDESC:Events for Texas County Library
REFRESH-INTERVAL;VALUE=DURATION:PT1H
X-Robots-Tag:noindex
X-PUBLISHED-TTL:PT1H
BEGIN:VTIMEZONE
TZID:America/Chicago
BEGIN:DAYLIGHT
TZOFFSETFROM:-0600
TZOFFSETTO:-0500
TZNAME:CDT
DTSTART:20220313T080000
END:DAYLIGHT
BEGIN:STANDARD
TZOFFSETFROM:-0500
TZOFFSETTO:-0600
TZNAME:CST
DTSTART:20221106T070000
END:STANDARD
BEGIN:DAYLIGHT
TZOFFSETFROM:-0600
TZOFFSETTO:-0500
TZNAME:CDT
DTSTART:20230312T080000
END:DAYLIGHT
BEGIN:STANDARD
TZOFFSETFROM:-0500
TZOFFSETTO:-0600
TZNAME:CST
DTSTART:20231105T070000
END:STANDARD
BEGIN:DAYLIGHT
TZOFFSETFROM:-0600
TZOFFSETTO:-0500
TZNAME:CDT
DTSTART:20240310T080000
END:DAYLIGHT
BEGIN:STANDARD
TZOFFSETFROM:-0500
TZOFFSETTO:-0600
TZNAME:CST
DTSTART:20241103T070000
END:STANDARD
END:VTIMEZONE
BEGIN:VEVENT
DTSTART;TZID=America/Chicago:20231130T100000
DTEND;TZID=America/Chicago:20231130T110000
DTSTAMP:20260423T050338
CREATED:20231026T151652Z
LAST-MODIFIED:20231026T151652Z
UID:1015-1701338400-1701342000@www.texascountylibrary.lib.mo.us
SUMMARY:Story Time at the Houston Branch
DESCRIPTION:
URL:https://www.texascountylibrary.lib.mo.us/event/story-time-at-the-houston-branch-4/
LOCATION:Houston Branch\, 191 N. First St.\, Houston\, MO\, 65483\, United States
END:VEVENT
BEGIN:VEVENT
DTSTART;TZID=America/Chicago:20231130T130000
DTEND;TZID=America/Chicago:20231130T140000
DTSTAMP:20260423T050338
CREATED:20231026T152202Z
LAST-MODIFIED:20231026T152202Z
UID:1024-1701349200-1701352800@www.texascountylibrary.lib.mo.us
SUMMARY:Story Time at the Summersville Branch
DESCRIPTION:
URL:https://www.texascountylibrary.lib.mo.us/event/story-time-at-the-summersville-branch-4/
LOCATION:Summersville Branch\, 480 First Street\, Summersville\, 65571\, United States
END:VEVENT
BEGIN:VEVENT
DTSTART;TZID=America/Chicago:20231130T133000
DTEND;TZID=America/Chicago:20231130T143000
DTSTAMP:20260423T050338
CREATED:20231026T152726Z
LAST-MODIFIED:20231026T152726Z
UID:1032-1701351000-1701354600@www.texascountylibrary.lib.mo.us
SUMMARY:Story Time at the Licking Branch
DESCRIPTION:
URL:https://www.texascountylibrary.lib.mo.us/event/story-time-at-the-licking-branch-4/
LOCATION:Licking Branch\, 126 S. Main Street\, Licking\, Missouri\, 65542\, United States
END:VEVENT
END:VCALENDAR