BEGIN:VCALENDAR
VERSION:2.0
PRODID:-//Texas County Library - ECPv6.15.20//NONSGML v1.0//EN
CALSCALE:GREGORIAN
METHOD:PUBLISH
X-ORIGINAL-URL:https://www.texascountylibrary.lib.mo.us
X-WR-CALDESC:Events for Texas County Library
REFRESH-INTERVAL;VALUE=DURATION:PT1H
X-Robots-Tag:noindex
X-PUBLISHED-TTL:PT1H
BEGIN:VTIMEZONE
TZID:America/Chicago
BEGIN:DAYLIGHT
TZOFFSETFROM:-0600
TZOFFSETTO:-0500
TZNAME:CDT
DTSTART:20220313T080000
END:DAYLIGHT
BEGIN:STANDARD
TZOFFSETFROM:-0500
TZOFFSETTO:-0600
TZNAME:CST
DTSTART:20221106T070000
END:STANDARD
BEGIN:DAYLIGHT
TZOFFSETFROM:-0600
TZOFFSETTO:-0500
TZNAME:CDT
DTSTART:20230312T080000
END:DAYLIGHT
BEGIN:STANDARD
TZOFFSETFROM:-0500
TZOFFSETTO:-0600
TZNAME:CST
DTSTART:20231105T070000
END:STANDARD
BEGIN:DAYLIGHT
TZOFFSETFROM:-0600
TZOFFSETTO:-0500
TZNAME:CDT
DTSTART:20240310T080000
END:DAYLIGHT
BEGIN:STANDARD
TZOFFSETFROM:-0500
TZOFFSETTO:-0600
TZNAME:CST
DTSTART:20241103T070000
END:STANDARD
END:VTIMEZONE
BEGIN:VEVENT
DTSTART;TZID=America/Chicago:20231222T133000
DTEND;TZID=America/Chicago:20231222T143000
DTSTAMP:20260423T050631
CREATED:20231205T210030Z
LAST-MODIFIED:20231205T210508Z
UID:1085-1703251800-1703255400@www.texascountylibrary.lib.mo.us
SUMMARY:Join MDC for Christmas Craft at the Licking Branch
DESCRIPTION:
URL:https://www.texascountylibrary.lib.mo.us/event/join-mdc-for-winter-nature-craft-at-the-licking-branch/
LOCATION:Licking Branch\, 126 S. Main Street\, Licking\, Missouri\, 65542\, United States
END:VEVENT
END:VCALENDAR