BEGIN:VCALENDAR
VERSION:2.0
PRODID:-//Texas County Library - ECPv6.15.20//NONSGML v1.0//EN
CALSCALE:GREGORIAN
METHOD:PUBLISH
X-ORIGINAL-URL:https://www.texascountylibrary.lib.mo.us
X-WR-CALDESC:Events for Texas County Library
REFRESH-INTERVAL;VALUE=DURATION:PT1H
X-Robots-Tag:noindex
X-PUBLISHED-TTL:PT1H
BEGIN:VTIMEZONE
TZID:America/Chicago
BEGIN:DAYLIGHT
TZOFFSETFROM:-0600
TZOFFSETTO:-0500
TZNAME:CDT
DTSTART:20230312T080000
END:DAYLIGHT
BEGIN:STANDARD
TZOFFSETFROM:-0500
TZOFFSETTO:-0600
TZNAME:CST
DTSTART:20231105T070000
END:STANDARD
BEGIN:DAYLIGHT
TZOFFSETFROM:-0600
TZOFFSETTO:-0500
TZNAME:CDT
DTSTART:20240310T080000
END:DAYLIGHT
BEGIN:STANDARD
TZOFFSETFROM:-0500
TZOFFSETTO:-0600
TZNAME:CST
DTSTART:20241103T070000
END:STANDARD
BEGIN:DAYLIGHT
TZOFFSETFROM:-0600
TZOFFSETTO:-0500
TZNAME:CDT
DTSTART:20250309T080000
END:DAYLIGHT
BEGIN:STANDARD
TZOFFSETFROM:-0500
TZOFFSETTO:-0600
TZNAME:CST
DTSTART:20251102T070000
END:STANDARD
END:VTIMEZONE
BEGIN:VEVENT
DTSTART;TZID=America/Chicago:20240213T110000
DTEND;TZID=America/Chicago:20240213T120000
DTSTAMP:20260422T230028
CREATED:20231211T191330Z
LAST-MODIFIED:20231211T191330Z
UID:1115-1707822000-1707825600@www.texascountylibrary.lib.mo.us
SUMMARY:Story Time at the Cabool Branch Every Tuesday.
DESCRIPTION:SD – Storytime
URL:https://www.texascountylibrary.lib.mo.us/event/story-time-at-the-cabool-branch-every-tuesday-6/
LOCATION:Cabool Branch\, 418 Walnut St\, Cabool\, MO\, 65689\, United States
END:VEVENT
BEGIN:VEVENT
DTSTART;TZID=America/Chicago:20240213T133000
DTEND;TZID=America/Chicago:20240213T143000
DTSTAMP:20260422T230028
CREATED:20231211T193115Z
LAST-MODIFIED:20231211T193115Z
UID:1138-1707831000-1707834600@www.texascountylibrary.lib.mo.us
SUMMARY:Story Time at the Summersville Branch Every Tuesday!
DESCRIPTION:
URL:https://www.texascountylibrary.lib.mo.us/event/story-time-at-the-summersville-branch-every-tuesday-9/
LOCATION:Summersville Branch\, 480 First Street\, Summersville\, 65571\, United States
END:VEVENT
END:VCALENDAR