BEGIN:VCALENDAR
VERSION:2.0
PRODID:-//Texas County Library - ECPv6.15.20//NONSGML v1.0//EN
CALSCALE:GREGORIAN
METHOD:PUBLISH
X-ORIGINAL-URL:https://www.texascountylibrary.lib.mo.us
X-WR-CALDESC:Events for Texas County Library
REFRESH-INTERVAL;VALUE=DURATION:PT1H
X-Robots-Tag:noindex
X-PUBLISHED-TTL:PT1H
BEGIN:VTIMEZONE
TZID:America/Chicago
BEGIN:DAYLIGHT
TZOFFSETFROM:-0600
TZOFFSETTO:-0500
TZNAME:CDT
DTSTART:20230312T080000
END:DAYLIGHT
BEGIN:STANDARD
TZOFFSETFROM:-0500
TZOFFSETTO:-0600
TZNAME:CST
DTSTART:20231105T070000
END:STANDARD
BEGIN:DAYLIGHT
TZOFFSETFROM:-0600
TZOFFSETTO:-0500
TZNAME:CDT
DTSTART:20240310T080000
END:DAYLIGHT
BEGIN:STANDARD
TZOFFSETFROM:-0500
TZOFFSETTO:-0600
TZNAME:CST
DTSTART:20241103T070000
END:STANDARD
BEGIN:DAYLIGHT
TZOFFSETFROM:-0600
TZOFFSETTO:-0500
TZNAME:CDT
DTSTART:20250309T080000
END:DAYLIGHT
BEGIN:STANDARD
TZOFFSETFROM:-0500
TZOFFSETTO:-0600
TZNAME:CST
DTSTART:20251102T070000
END:STANDARD
END:VTIMEZONE
BEGIN:VEVENT
DTSTART;TZID=America/Chicago:20240606T100000
DTEND;TZID=America/Chicago:20240606T110000
DTSTAMP:20260423T035814
CREATED:20240523T210608Z
LAST-MODIFIED:20240523T210608Z
UID:1396-1717668000-1717671600@www.texascountylibrary.lib.mo.us
SUMMARY:SRP Event Houston Branch 10am
DESCRIPTION:
URL:https://www.texascountylibrary.lib.mo.us/event/srp-event-houston-branch-10am/
LOCATION:Houston Branch\, 191 N. First St.\, Houston\, MO\, 65483\, United States
END:VEVENT
BEGIN:VEVENT
DTSTART;TZID=America/Chicago:20240606T130000
DTEND;TZID=America/Chicago:20240606T140000
DTSTAMP:20260423T035814
CREATED:20240523T212028Z
LAST-MODIFIED:20240523T212028Z
UID:1401-1717678800-1717682400@www.texascountylibrary.lib.mo.us
SUMMARY:SRP Event at Cabool Branch 1pm
DESCRIPTION:
URL:https://www.texascountylibrary.lib.mo.us/event/srp-event-at-cabool-branch-1pm/
LOCATION:Cabool Branch\, 418 Walnut St\, Cabool\, MO\, 65689\, United States
END:VEVENT
BEGIN:VEVENT
DTSTART;TZID=America/Chicago:20240606T140000
DTEND;TZID=America/Chicago:20240606T150000
DTSTAMP:20260423T035814
CREATED:20240523T211920Z
LAST-MODIFIED:20240523T211920Z
UID:1399-1717682400-1717686000@www.texascountylibrary.lib.mo.us
SUMMARY:SRP Event Licking Branch 2pm
DESCRIPTION:
URL:https://www.texascountylibrary.lib.mo.us/event/srp-event-licking-branch-2pm/
LOCATION:Licking Branch\, 126 S. Main Street\, Licking\, Missouri\, 65542\, United States
END:VEVENT
END:VCALENDAR