BEGIN:VCALENDAR
VERSION:2.0
PRODID:-//Texas County Library - ECPv6.15.20//NONSGML v1.0//EN
CALSCALE:GREGORIAN
METHOD:PUBLISH
X-ORIGINAL-URL:https://www.texascountylibrary.lib.mo.us
X-WR-CALDESC:Events for Texas County Library
REFRESH-INTERVAL;VALUE=DURATION:PT1H
X-Robots-Tag:noindex
X-PUBLISHED-TTL:PT1H
BEGIN:VTIMEZONE
TZID:America/Chicago
BEGIN:DAYLIGHT
TZOFFSETFROM:-0600
TZOFFSETTO:-0500
TZNAME:CDT
DTSTART:20230312T080000
END:DAYLIGHT
BEGIN:STANDARD
TZOFFSETFROM:-0500
TZOFFSETTO:-0600
TZNAME:CST
DTSTART:20231105T070000
END:STANDARD
BEGIN:DAYLIGHT
TZOFFSETFROM:-0600
TZOFFSETTO:-0500
TZNAME:CDT
DTSTART:20240310T080000
END:DAYLIGHT
BEGIN:STANDARD
TZOFFSETFROM:-0500
TZOFFSETTO:-0600
TZNAME:CST
DTSTART:20241103T070000
END:STANDARD
BEGIN:DAYLIGHT
TZOFFSETFROM:-0600
TZOFFSETTO:-0500
TZNAME:CDT
DTSTART:20250309T080000
END:DAYLIGHT
BEGIN:STANDARD
TZOFFSETFROM:-0500
TZOFFSETTO:-0600
TZNAME:CST
DTSTART:20251102T070000
END:STANDARD
END:VTIMEZONE
BEGIN:VEVENT
DTSTART;TZID=America/Chicago:20240926T103000
DTEND;TZID=America/Chicago:20240926T170000
DTSTAMP:20260422T021556
CREATED:20240805T171520Z
LAST-MODIFIED:20240815T170119Z
UID:1490-1727346600-1727370000@www.texascountylibrary.lib.mo.us
SUMMARY:Story Time at the Houston Branch every Thursday at 10:30am!
DESCRIPTION:
URL:https://www.texascountylibrary.lib.mo.us/event/story-time-at-the-houston-branch-every-thursday-at-10am-17/
LOCATION:Houston Branch\, 191 N. First St.\, Houston\, MO\, 65483\, United States
END:VEVENT
BEGIN:VEVENT
DTSTART;TZID=America/Chicago:20240926T133000
DTEND;TZID=America/Chicago:20240926T170000
DTSTAMP:20260422T021556
CREATED:20240805T181739Z
LAST-MODIFIED:20240805T181739Z
UID:1517-1727357400-1727370000@www.texascountylibrary.lib.mo.us
SUMMARY:Story Time at the Licking Branch every Thursday at 1:30pm!
DESCRIPTION:
URL:https://www.texascountylibrary.lib.mo.us/event/story-time-at-the-licking-branch-every-thursday-at-130pm-17/
LOCATION:Licking Branch\, 126 S. Main Street\, Licking\, Missouri\, 65542\, United States
END:VEVENT
END:VCALENDAR