BEGIN:VCALENDAR
VERSION:2.0
PRODID:-//Texas County Library - ECPv6.15.20//NONSGML v1.0//EN
CALSCALE:GREGORIAN
METHOD:PUBLISH
X-ORIGINAL-URL:https://www.texascountylibrary.lib.mo.us
X-WR-CALDESC:Events for Texas County Library
REFRESH-INTERVAL;VALUE=DURATION:PT1H
X-Robots-Tag:noindex
X-PUBLISHED-TTL:PT1H
BEGIN:VTIMEZONE
TZID:America/Chicago
BEGIN:DAYLIGHT
TZOFFSETFROM:-0600
TZOFFSETTO:-0500
TZNAME:CDT
DTSTART:20220313T080000
END:DAYLIGHT
BEGIN:STANDARD
TZOFFSETFROM:-0500
TZOFFSETTO:-0600
TZNAME:CST
DTSTART:20221106T070000
END:STANDARD
BEGIN:DAYLIGHT
TZOFFSETFROM:-0600
TZOFFSETTO:-0500
TZNAME:CDT
DTSTART:20230312T080000
END:DAYLIGHT
BEGIN:STANDARD
TZOFFSETFROM:-0500
TZOFFSETTO:-0600
TZNAME:CST
DTSTART:20231105T070000
END:STANDARD
BEGIN:DAYLIGHT
TZOFFSETFROM:-0600
TZOFFSETTO:-0500
TZNAME:CDT
DTSTART:20240310T080000
END:DAYLIGHT
BEGIN:STANDARD
TZOFFSETFROM:-0500
TZOFFSETTO:-0600
TZNAME:CST
DTSTART:20241103T070000
END:STANDARD
END:VTIMEZONE
BEGIN:VEVENT
DTSTART;TZID=America/Chicago:20230706T100000
DTEND;TZID=America/Chicago:20230706T110000
DTSTAMP:20260424T113204
CREATED:20230508T202616Z
LAST-MODIFIED:20230511T193647Z
UID:786-1688637600-1688641200@www.texascountylibrary.lib.mo.us
SUMMARY:Cabool SRP Event: MU Ext. - "Kindness Salad w/ Bananas & Oranges"
DESCRIPTION:
URL:https://www.texascountylibrary.lib.mo.us/event/cabool-srp-event-mu-ext-kindness-salad-w-bananas-oranges/
LOCATION:Cabool Branch\, 418 Walnut St\, Cabool\, MO\, 65689\, United States
END:VEVENT
BEGIN:VEVENT
DTSTART;TZID=America/Chicago:20230706T100000
DTEND;TZID=America/Chicago:20230706T110000
DTSTAMP:20260424T113204
CREATED:20230508T204748Z
LAST-MODIFIED:20230511T193713Z
UID:804-1688637600-1688641200@www.texascountylibrary.lib.mo.us
SUMMARY:Houston SRP Event: STEM/LEGO Building Day
DESCRIPTION:
URL:https://www.texascountylibrary.lib.mo.us/event/houston-srp-event-stem-lego-building-day/
LOCATION:Houston Branch\, 191 N. First St.\, Houston\, MO\, 65483\, United States
END:VEVENT
BEGIN:VEVENT
DTSTART;TZID=America/Chicago:20230706T130000
DTEND;TZID=America/Chicago:20230706T140000
DTSTAMP:20260424T113204
CREATED:20230508T210111Z
LAST-MODIFIED:20230511T193741Z
UID:818-1688648400-1688652000@www.texascountylibrary.lib.mo.us
SUMMARY:Licking SRP Event: STEM/LEGO Building Day
DESCRIPTION:
URL:https://www.texascountylibrary.lib.mo.us/event/licking-srp-event-stem-lego-building-day/
LOCATION:Licking Branch\, 126 S. Main Street\, Licking\, Missouri\, 65542\, United States
END:VEVENT
BEGIN:VEVENT
DTSTART;TZID=America/Chicago:20230706T140000
DTEND;TZID=America/Chicago:20230706T150000
DTSTAMP:20260424T113204
CREATED:20230509T202458Z
LAST-MODIFIED:20230511T193801Z
UID:832-1688652000-1688655600@www.texascountylibrary.lib.mo.us
SUMMARY:Summersville SRP Event: MU Ext. "Kindness Salad with Bananas & Oranges"
DESCRIPTION:
URL:https://www.texascountylibrary.lib.mo.us/event/summersville-srp-event-mu-ext-kindness-salad-with-bananas-oranges/
LOCATION:Summersville Branch\, 480 First Street\, Summersville\, 65571\, United States
END:VEVENT
BEGIN:VEVENT
DTSTART;TZID=America/Chicago:20230713T100000
DTEND;TZID=America/Chicago:20230713T110000
DTSTAMP:20260424T113204
CREATED:20230508T202841Z
LAST-MODIFIED:20230511T193814Z
UID:790-1689242400-1689246000@www.texascountylibrary.lib.mo.us
SUMMARY:Cabool SRP Event: MDC-Animals "All Together" in their Ecosystems
DESCRIPTION:
URL:https://www.texascountylibrary.lib.mo.us/event/cabool-srp-event-mdc-animals-all-together-in-their-ecosystems/
LOCATION:Cabool Branch\, 418 Walnut St\, Cabool\, MO\, 65689\, United States
END:VEVENT
BEGIN:VEVENT
DTSTART;TZID=America/Chicago:20230713T100000
DTEND;TZID=America/Chicago:20230713T110000
DTSTAMP:20260424T113204
CREATED:20230508T204854Z
LAST-MODIFIED:20230511T192515Z
UID:806-1689242400-1689246000@www.texascountylibrary.lib.mo.us
SUMMARY:Houston SRP Event: Intercounty - "How Electricity Works"
DESCRIPTION:
URL:https://www.texascountylibrary.lib.mo.us/event/houston-srp-event-intercounty-how-electricity-works/
LOCATION:Houston Branch\, 191 N. First St.\, Houston\, MO\, 65483\, United States
END:VEVENT
BEGIN:VEVENT
DTSTART;TZID=America/Chicago:20230713T130000
DTEND;TZID=America/Chicago:20230713T140000
DTSTAMP:20260424T113204
CREATED:20230509T202618Z
LAST-MODIFIED:20230511T192452Z
UID:835-1689253200-1689256800@www.texascountylibrary.lib.mo.us
SUMMARY:Summersville SRP Event: MDC-Animals "All Together" in their Ecosystems
DESCRIPTION:
URL:https://www.texascountylibrary.lib.mo.us/event/summersville-srp-event-mdc-animals-all-together-in-their-ecosystems/
LOCATION:Summersville Branch\, 480 First Street\, Summersville\, 65571\, United States
END:VEVENT
BEGIN:VEVENT
DTSTART;TZID=America/Chicago:20230713T140000
DTEND;TZID=America/Chicago:20230713T150000
DTSTAMP:20260424T113204
CREATED:20230508T210231Z
LAST-MODIFIED:20230511T192422Z
UID:820-1689256800-1689260400@www.texascountylibrary.lib.mo.us
SUMMARY:Licking SRP Event: Intercounty - "How Electricity Works"
DESCRIPTION:
URL:https://www.texascountylibrary.lib.mo.us/event/licking-srp-event-intercounty-how-electricity-works/
LOCATION:Licking Branch\, 126 S. Main Street\, Licking\, Missouri\, 65542\, United States
END:VEVENT
BEGIN:VEVENT
DTSTART;TZID=America/Chicago:20230720T100000
DTEND;TZID=America/Chicago:20230720T110000
DTSTAMP:20260424T113204
CREATED:20230508T202951Z
LAST-MODIFIED:20230511T192402Z
UID:793-1689847200-1689850800@www.texascountylibrary.lib.mo.us
SUMMARY:Cabool SRP Event: Marty the Magician "Fantastic Friends" Show
DESCRIPTION:
URL:https://www.texascountylibrary.lib.mo.us/event/cabool-srp-event-marty-the-magician-fantastic-friends-show/
LOCATION:Cabool Branch\, 418 Walnut St\, Cabool\, MO\, 65689\, United States
END:VEVENT
BEGIN:VEVENT
DTSTART;TZID=America/Chicago:20230720T100000
DTEND;TZID=America/Chicago:20230720T110000
DTSTAMP:20260424T113204
CREATED:20230508T205027Z
LAST-MODIFIED:20230511T145743Z
UID:808-1689847200-1689850800@www.texascountylibrary.lib.mo.us
SUMMARY:Houston SRP Event: MU Ext. "Kindness Salad w/ Bananas & Oranges"
DESCRIPTION:
URL:https://www.texascountylibrary.lib.mo.us/event/houston-srp-event-mu-ext-kindness-salad-w-bananas-oranges/
LOCATION:Houston Branch\, 191 N. First St.\, Houston\, MO\, 65483\, United States
END:VEVENT
BEGIN:VEVENT
DTSTART;TZID=America/Chicago:20230720T130000
DTEND;TZID=America/Chicago:20230720T140000
DTSTAMP:20260424T113204
CREATED:20230508T212117Z
LAST-MODIFIED:20230511T192341Z
UID:822-1689858000-1689861600@www.texascountylibrary.lib.mo.us
SUMMARY:Licking SRP Event: MU Ext. - "Kindness Salad w/ Bananas & Oranges"
DESCRIPTION:
URL:https://www.texascountylibrary.lib.mo.us/event/licking-srp-event-mu-ext-kindness-salad-w-bananas-oranges/
LOCATION:Licking Branch\, 126 S. Main Street\, Licking\, Missouri\, 65542\, United States
END:VEVENT
BEGIN:VEVENT
DTSTART;TZID=America/Chicago:20230720T130000
DTEND;TZID=America/Chicago:20230720T140000
DTSTAMP:20260424T113204
CREATED:20230509T202804Z
LAST-MODIFIED:20230511T145523Z
UID:837-1689858000-1689861600@www.texascountylibrary.lib.mo.us
SUMMARY:Summersville SRP Event: Marty the Magician "Fantastic Friends" Show
DESCRIPTION:
URL:https://www.texascountylibrary.lib.mo.us/event/summersville-srp-event-marty-the-magician-fantastic-friends-show/
LOCATION:Summersville Branch\, 480 First Street\, Summersville\, 65571\, United States
END:VEVENT
END:VCALENDAR