BEGIN:VCALENDAR
VERSION:2.0
PRODID:-//Texas County Library - ECPv6.15.20//NONSGML v1.0//EN
CALSCALE:GREGORIAN
METHOD:PUBLISH
X-ORIGINAL-URL:https://www.texascountylibrary.lib.mo.us
X-WR-CALDESC:Events for Texas County Library
REFRESH-INTERVAL;VALUE=DURATION:PT1H
X-Robots-Tag:noindex
X-PUBLISHED-TTL:PT1H
BEGIN:VTIMEZONE
TZID:America/Chicago
BEGIN:DAYLIGHT
TZOFFSETFROM:-0600
TZOFFSETTO:-0500
TZNAME:CDT
DTSTART:20220313T080000
END:DAYLIGHT
BEGIN:STANDARD
TZOFFSETFROM:-0500
TZOFFSETTO:-0600
TZNAME:CST
DTSTART:20221106T070000
END:STANDARD
BEGIN:DAYLIGHT
TZOFFSETFROM:-0600
TZOFFSETTO:-0500
TZNAME:CDT
DTSTART:20230312T080000
END:DAYLIGHT
BEGIN:STANDARD
TZOFFSETFROM:-0500
TZOFFSETTO:-0600
TZNAME:CST
DTSTART:20231105T070000
END:STANDARD
BEGIN:DAYLIGHT
TZOFFSETFROM:-0600
TZOFFSETTO:-0500
TZNAME:CDT
DTSTART:20240310T080000
END:DAYLIGHT
BEGIN:STANDARD
TZOFFSETFROM:-0500
TZOFFSETTO:-0600
TZNAME:CST
DTSTART:20241103T070000
END:STANDARD
END:VTIMEZONE
BEGIN:VEVENT
DTSTART;VALUE=DATE:20230907
DTEND;VALUE=DATE:20230908
DTSTAMP:20260424T013729
CREATED:20230906T200109Z
LAST-MODIFIED:20230906T200109Z
UID:933-1694044800-1694131199@www.texascountylibrary.lib.mo.us
SUMMARY:Licking Branch Story Time @ 1:30pm
DESCRIPTION:
URL:https://www.texascountylibrary.lib.mo.us/event/licking-branch-story-time-130pm/
LOCATION:Licking Branch\, 126 S. Main Street\, Licking\, Missouri\, 65542\, United States
END:VEVENT
BEGIN:VEVENT
DTSTART;VALUE=DATE:20230907
DTEND;VALUE=DATE:20230908
DTSTAMP:20260424T013729
CREATED:20230906T201119Z
LAST-MODIFIED:20230911T150619Z
UID:950-1694044800-1694131199@www.texascountylibrary.lib.mo.us
SUMMARY:Houston Branch Story Times 10am
DESCRIPTION:
URL:https://www.texascountylibrary.lib.mo.us/event/houston-branch-story-times-10am-4pm/
LOCATION:Houston Branch\, 191 N. First St.\, Houston\, MO\, 65483\, United States
END:VEVENT
BEGIN:VEVENT
DTSTART;VALUE=DATE:20230914
DTEND;VALUE=DATE:20230915
DTSTAMP:20260424T013729
CREATED:20230906T200219Z
LAST-MODIFIED:20230906T200219Z
UID:936-1694649600-1694735999@www.texascountylibrary.lib.mo.us
SUMMARY:Licking Branch Story Time @ 1:30pm
DESCRIPTION:
URL:https://www.texascountylibrary.lib.mo.us/event/licking-branch-story-time-130pm-2/
LOCATION:Licking Branch\, 126 S. Main Street\, Licking\, Missouri\, 65542\, United States
END:VEVENT
BEGIN:VEVENT
DTSTART;VALUE=DATE:20230914
DTEND;VALUE=DATE:20230915
DTSTAMP:20260424T013729
CREATED:20230906T201255Z
LAST-MODIFIED:20230911T150611Z
UID:952-1694649600-1694735999@www.texascountylibrary.lib.mo.us
SUMMARY:Houston Branch Story Times @ 10am
DESCRIPTION:
URL:https://www.texascountylibrary.lib.mo.us/event/houston-branch-story-times-10am-4pm-2/
LOCATION:Houston Branch\, 191 N. First St.\, Houston\, MO\, 65483\, United States
END:VEVENT
BEGIN:VEVENT
DTSTART;VALUE=DATE:20230921
DTEND;VALUE=DATE:20230922
DTSTAMP:20260424T013729
CREATED:20230906T200556Z
LAST-MODIFIED:20230906T200556Z
UID:938-1695254400-1695340799@www.texascountylibrary.lib.mo.us
SUMMARY:Licking Branch Story Time @ 1:30pm
DESCRIPTION:
URL:https://www.texascountylibrary.lib.mo.us/event/licking-branch-story-time-130pm-3/
LOCATION:Licking Branch\, 126 S. Main Street\, Licking\, Missouri\, 65542\, United States
END:VEVENT
BEGIN:VEVENT
DTSTART;VALUE=DATE:20230921
DTEND;VALUE=DATE:20230922
DTSTAMP:20260424T013729
CREATED:20230906T202321Z
LAST-MODIFIED:20230911T150605Z
UID:956-1695254400-1695340799@www.texascountylibrary.lib.mo.us
SUMMARY:Houston Branch Story Time @ 10am
DESCRIPTION:
URL:https://www.texascountylibrary.lib.mo.us/event/houston-branch-story-time-10am-4pm/
LOCATION:Houston Branch\, 191 N. First St.\, Houston\, MO\, 65483\, United States
END:VEVENT
BEGIN:VEVENT
DTSTART;VALUE=DATE:20230928
DTEND;VALUE=DATE:20230929
DTSTAMP:20260424T013729
CREATED:20230906T200637Z
LAST-MODIFIED:20230906T200637Z
UID:940-1695859200-1695945599@www.texascountylibrary.lib.mo.us
SUMMARY:Licking Branch Story Time @ 1:30pm
DESCRIPTION:
URL:https://www.texascountylibrary.lib.mo.us/event/licking-branch-story-time-130pm-4/
LOCATION:Licking Branch\, 126 S. Main Street\, Licking\, Missouri\, 65542\, United States
END:VEVENT
BEGIN:VEVENT
DTSTART;VALUE=DATE:20230928
DTEND;VALUE=DATE:20230929
DTSTAMP:20260424T013729
CREATED:20230906T202121Z
LAST-MODIFIED:20230911T150539Z
UID:954-1695859200-1695945599@www.texascountylibrary.lib.mo.us
SUMMARY:Houston Branch Story Times @ 10am
DESCRIPTION:
URL:https://www.texascountylibrary.lib.mo.us/event/houston-branch-story-times-10am-4pm-3/
LOCATION:Houston Branch\, 191 N. First St.\, Houston\, MO\, 65483\, United States
END:VEVENT
END:VCALENDAR