BEGIN:VCALENDAR
VERSION:2.0
PRODID:-//Texas County Library - ECPv6.15.20//NONSGML v1.0//EN
CALSCALE:GREGORIAN
METHOD:PUBLISH
X-WR-CALNAME:Texas County Library
X-ORIGINAL-URL:https://www.texascountylibrary.lib.mo.us
X-WR-CALDESC:Events for Texas County Library
REFRESH-INTERVAL;VALUE=DURATION:PT1H
X-Robots-Tag:noindex
X-PUBLISHED-TTL:PT1H
BEGIN:VTIMEZONE
TZID:America/Chicago
BEGIN:DAYLIGHT
TZOFFSETFROM:-0600
TZOFFSETTO:-0500
TZNAME:CDT
DTSTART:20220313T080000
END:DAYLIGHT
BEGIN:STANDARD
TZOFFSETFROM:-0500
TZOFFSETTO:-0600
TZNAME:CST
DTSTART:20221106T070000
END:STANDARD
BEGIN:DAYLIGHT
TZOFFSETFROM:-0600
TZOFFSETTO:-0500
TZNAME:CDT
DTSTART:20230312T080000
END:DAYLIGHT
BEGIN:STANDARD
TZOFFSETFROM:-0500
TZOFFSETTO:-0600
TZNAME:CST
DTSTART:20231105T070000
END:STANDARD
BEGIN:DAYLIGHT
TZOFFSETFROM:-0600
TZOFFSETTO:-0500
TZNAME:CDT
DTSTART:20240310T080000
END:DAYLIGHT
BEGIN:STANDARD
TZOFFSETFROM:-0500
TZOFFSETTO:-0600
TZNAME:CST
DTSTART:20241103T070000
END:STANDARD
END:VTIMEZONE
BEGIN:VEVENT
DTSTART;VALUE=DATE:20231005
DTEND;VALUE=DATE:20231006
DTSTAMP:20260423T164120
CREATED:20230906T200730Z
LAST-MODIFIED:20230906T200730Z
UID:942-1696464000-1696550399@www.texascountylibrary.lib.mo.us
SUMMARY:Licking Branch Story Time @ 1:30pm
DESCRIPTION:
URL:https://www.texascountylibrary.lib.mo.us/event/licking-branch-story-time-130pm-5/
LOCATION:Licking Branch\, 126 S. Main Street\, Licking\, Missouri\, 65542\, United States
END:VEVENT
BEGIN:VEVENT
DTSTART;VALUE=DATE:20231005
DTEND;VALUE=DATE:20231006
DTSTAMP:20260423T164120
CREATED:20230906T202411Z
LAST-MODIFIED:20230911T150459Z
UID:958-1696464000-1696550399@www.texascountylibrary.lib.mo.us
SUMMARY:Houston Branch Story Time @ 10am
DESCRIPTION:
URL:https://www.texascountylibrary.lib.mo.us/event/houston-branch-story-time-10am-4pm-2/
LOCATION:Houston Branch\, 191 N. First St.\, Houston\, MO\, 65483\, United States
END:VEVENT
BEGIN:VEVENT
DTSTART;VALUE=DATE:20231012
DTEND;VALUE=DATE:20231013
DTSTAMP:20260423T164120
CREATED:20230906T200814Z
LAST-MODIFIED:20230906T200814Z
UID:944-1697068800-1697155199@www.texascountylibrary.lib.mo.us
SUMMARY:Licking Branch Story Time @ 1:30pm
DESCRIPTION:
URL:https://www.texascountylibrary.lib.mo.us/event/licking-branch-story-time-130pm-6/
LOCATION:Licking Branch\, 126 S. Main Street\, Licking\, Missouri\, 65542\, United States
END:VEVENT
BEGIN:VEVENT
DTSTART;VALUE=DATE:20231012
DTEND;VALUE=DATE:20231013
DTSTAMP:20260423T164120
CREATED:20230906T202514Z
LAST-MODIFIED:20230911T150557Z
UID:960-1697068800-1697155199@www.texascountylibrary.lib.mo.us
SUMMARY:Houston Branch Story Time @ 10am
DESCRIPTION:
URL:https://www.texascountylibrary.lib.mo.us/event/houston-branch-story-time-10am-4pm-3/
LOCATION:Houston Branch\, 191 N. First St.\, Houston\, MO\, 65483\, United States
END:VEVENT
BEGIN:VEVENT
DTSTART;VALUE=DATE:20231019
DTEND;VALUE=DATE:20231020
DTSTAMP:20260423T164120
CREATED:20230906T200855Z
LAST-MODIFIED:20230906T200855Z
UID:946-1697673600-1697759999@www.texascountylibrary.lib.mo.us
SUMMARY:Licking Branch Story Time @ 1:30pm
DESCRIPTION:
URL:https://www.texascountylibrary.lib.mo.us/event/licking-branch-story-time-130pm-7/
LOCATION:Licking Branch\, 126 S. Main Street\, Licking\, Missouri\, 65542\, United States
END:VEVENT
BEGIN:VEVENT
DTSTART;VALUE=DATE:20231019
DTEND;VALUE=DATE:20231020
DTSTAMP:20260423T164120
CREATED:20230906T202625Z
LAST-MODIFIED:20230911T150452Z
UID:962-1697673600-1697759999@www.texascountylibrary.lib.mo.us
SUMMARY:Houston Branch Story Time @ 10am
DESCRIPTION:
URL:https://www.texascountylibrary.lib.mo.us/event/houston-branch-story-time-10am-4pm-4/
LOCATION:Houston Branch\, 191 N. First St.\, Houston\, MO\, 65483\, United States
END:VEVENT
BEGIN:VEVENT
DTSTART;VALUE=DATE:20231020
DTEND;VALUE=DATE:20231021
DTSTAMP:20260423T164120
CREATED:20231003T194335Z
LAST-MODIFIED:20231003T194335Z
UID:991-1697760000-1697846399@www.texascountylibrary.lib.mo.us
SUMMARY:Book Sale at the Houston Branch
DESCRIPTION:
URL:https://www.texascountylibrary.lib.mo.us/event/book-sale-at-the-houston-branch/
LOCATION:Houston Branch\, 191 N. First St.\, Houston\, MO\, 65483\, United States
END:VEVENT
BEGIN:VEVENT
DTSTART;VALUE=DATE:20231021
DTEND;VALUE=DATE:20231022
DTSTAMP:20260423T164120
CREATED:20231003T194430Z
LAST-MODIFIED:20231003T194430Z
UID:993-1697846400-1697932799@www.texascountylibrary.lib.mo.us
SUMMARY:Book Sale at Houston Branch
DESCRIPTION:
URL:https://www.texascountylibrary.lib.mo.us/event/book-sale-at-houston-branch/
LOCATION:Houston Branch\, 191 N. First St.\, Houston\, MO\, 65483\, United States
END:VEVENT
BEGIN:VEVENT
DTSTART;VALUE=DATE:20231026
DTEND;VALUE=DATE:20231027
DTSTAMP:20260423T164120
CREATED:20230906T200938Z
LAST-MODIFIED:20230906T200938Z
UID:948-1698278400-1698364799@www.texascountylibrary.lib.mo.us
SUMMARY:Licking Branch Story Time @ 1:30pm
DESCRIPTION:
URL:https://www.texascountylibrary.lib.mo.us/event/licking-branch-story-time-130pm-8/
LOCATION:Licking Branch\, 126 S. Main Street\, Licking\, Missouri\, 65542\, United States
END:VEVENT
BEGIN:VEVENT
DTSTART;VALUE=DATE:20231026
DTEND;VALUE=DATE:20231027
DTSTAMP:20260423T164121
CREATED:20230906T202711Z
LAST-MODIFIED:20230911T150443Z
UID:964-1698278400-1698364799@www.texascountylibrary.lib.mo.us
SUMMARY:Houston Branch Story Time @ 10am
DESCRIPTION:
URL:https://www.texascountylibrary.lib.mo.us/event/houston-branch-story-time-10am-4pm-5/
LOCATION:Houston Branch\, 191 N. First St.\, Houston\, MO\, 65483\, United States
END:VEVENT
END:VCALENDAR