BEGIN:VCALENDAR
VERSION:2.0
PRODID:-//Texas County Library - ECPv6.15.20//NONSGML v1.0//EN
CALSCALE:GREGORIAN
METHOD:PUBLISH
X-ORIGINAL-URL:https://www.texascountylibrary.lib.mo.us
X-WR-CALDESC:Events for Texas County Library
REFRESH-INTERVAL;VALUE=DURATION:PT1H
X-Robots-Tag:noindex
X-PUBLISHED-TTL:PT1H
BEGIN:VTIMEZONE
TZID:America/Chicago
BEGIN:DAYLIGHT
TZOFFSETFROM:-0600
TZOFFSETTO:-0500
TZNAME:CDT
DTSTART:20230312T080000
END:DAYLIGHT
BEGIN:STANDARD
TZOFFSETFROM:-0500
TZOFFSETTO:-0600
TZNAME:CST
DTSTART:20231105T070000
END:STANDARD
BEGIN:DAYLIGHT
TZOFFSETFROM:-0600
TZOFFSETTO:-0500
TZNAME:CDT
DTSTART:20240310T080000
END:DAYLIGHT
BEGIN:STANDARD
TZOFFSETFROM:-0500
TZOFFSETTO:-0600
TZNAME:CST
DTSTART:20241103T070000
END:STANDARD
BEGIN:DAYLIGHT
TZOFFSETFROM:-0600
TZOFFSETTO:-0500
TZNAME:CDT
DTSTART:20250309T080000
END:DAYLIGHT
BEGIN:STANDARD
TZOFFSETFROM:-0500
TZOFFSETTO:-0600
TZNAME:CST
DTSTART:20251102T070000
END:STANDARD
END:VTIMEZONE
BEGIN:VEVENT
DTSTART;TZID=America/Chicago:20240502T100000
DTEND;TZID=America/Chicago:20240502T110000
DTSTAMP:20260422T111049
CREATED:20240304T213354Z
LAST-MODIFIED:20240304T213354Z
UID:1320-1714644000-1714647600@www.texascountylibrary.lib.mo.us
SUMMARY:Story Time at the Houston Branch Every Thursday at 10am!
DESCRIPTION:
URL:https://www.texascountylibrary.lib.mo.us/event/story-time-at-the-houston-branch-every-thursday-at-10am-9/
LOCATION:Houston Branch\, 191 N. First St.\, Houston\, MO\, 65483\, United States
END:VEVENT
BEGIN:VEVENT
DTSTART;TZID=America/Chicago:20240502T133000
DTEND;TZID=America/Chicago:20240502T143000
DTSTAMP:20260422T111049
CREATED:20240304T212435Z
LAST-MODIFIED:20240304T212435Z
UID:1302-1714656600-1714660200@www.texascountylibrary.lib.mo.us
SUMMARY:Story Time at the Licking Branch Every Thursday at 1:30pm!
DESCRIPTION:
URL:https://www.texascountylibrary.lib.mo.us/event/story-time-at-the-licking-branch-every-thursday-at-130pm-9/
LOCATION:Licking Branch\, 126 S. Main Street\, Licking\, Missouri\, 65542\, United States
END:VEVENT
BEGIN:VEVENT
DTSTART;TZID=America/Chicago:20240518T133000
DTEND;TZID=America/Chicago:20240518T143000
DTSTAMP:20260422T111049
CREATED:20240326T202604Z
LAST-MODIFIED:20240326T202604Z
UID:1356-1716039000-1716042600@www.texascountylibrary.lib.mo.us
SUMMARY:Book Club at the Houston Branch
DESCRIPTION:
URL:https://www.texascountylibrary.lib.mo.us/event/book-club-at-the-houston-branch-2/
LOCATION:Cabool Branch\, 418 Walnut St\, Cabool\, MO\, 65689\, United States
END:VEVENT
BEGIN:VEVENT
DTSTART;TZID=America/Chicago:20240527T080000
DTEND;TZID=America/Chicago:20240527T170000
DTSTAMP:20260422T111049
CREATED:20240502T191952Z
LAST-MODIFIED:20240502T191952Z
UID:1387-1716796800-1716829200@www.texascountylibrary.lib.mo.us
SUMMARY:Closed for Memorial Day
DESCRIPTION:
URL:https://www.texascountylibrary.lib.mo.us/event/closed-for-memorial-day/
LOCATION:MO
END:VEVENT
BEGIN:VEVENT
DTSTART;VALUE=DATE:20240528
DTEND;VALUE=DATE:20240529
DTSTAMP:20260422T111049
CREATED:20240523T210435Z
LAST-MODIFIED:20240523T210435Z
UID:1394-1716854400-1716940799@www.texascountylibrary.lib.mo.us
SUMMARY:SRP Registration Begins at All Branches!
DESCRIPTION:
URL:https://www.texascountylibrary.lib.mo.us/event/srp-registration-begins-at-all-branches/
LOCATION:MO
END:VEVENT
END:VCALENDAR